BEGIN:VCALENDAR
VERSION:2.0
PRODID:icalendar-ruby
CALSCALE:GREGORIAN
METHOD:PUBLISH
BEGIN:VEVENT
DTSTAMP:20260425T024826Z
UID:5-667704@ponazarene.com
DTSTART:20261011T170000Z
DTEND:20261011T180000Z
CLASS:PUBLIC
CREATED:20260424T193640
DESCRIPTION:Sunday Worship
LAST-MODIFIED:20260424T193640
LOCATION:
SUMMARY:Sunday Worship
URL;VALUE=URI:https://ponazarene.com/events/sunday-worship/2026-10-11
END:VEVENT
END:VCALENDAR
