BEGIN:VCALENDAR
VERSION:2.0
PRODID:icalendar-ruby
CALSCALE:GREGORIAN
METHOD:PUBLISH
BEGIN:VEVENT
DTSTAMP:20260424T220800Z
UID:5-666489@ponazarene.com
DTSTART:20260920T170000Z
DTEND:20260920T180000Z
CLASS:PUBLIC
CREATED:20260424T135912
DESCRIPTION:Sunday Worship
LAST-MODIFIED:20260424T135912
LOCATION:
SUMMARY:Sunday Worship
URL;VALUE=URI:https://ponazarene.com/events/sunday-worship/2026-09-20
END:VEVENT
END:VCALENDAR
