BEGIN:VCALENDAR
VERSION:2.0
PRODID:icalendar-ruby
CALSCALE:GREGORIAN
METHOD:PUBLISH
BEGIN:VEVENT
DTSTAMP:20260424T202532Z
UID:5-665882@ponazarene.com
DTSTART:20260913T170000Z
DTEND:20260913T180000Z
CLASS:PUBLIC
CREATED:20260424T111135
DESCRIPTION:Sunday Worship
LAST-MODIFIED:20260424T111135
LOCATION:
SUMMARY:Sunday Worship
URL;VALUE=URI:https://ponazarene.com/events/sunday-worship/2026-09-13
END:VEVENT
END:VCALENDAR
