BEGIN:VCALENDAR
VERSION:2.0
PRODID:icalendar-ruby
CALSCALE:GREGORIAN
METHOD:PUBLISH
BEGIN:VEVENT
DTSTAMP:20260424T172453Z
UID:5-665274@ponazarene.com
DTSTART:20260830T170000Z
DTEND:20260830T180000Z
CLASS:PUBLIC
CREATED:20260424T082532
DESCRIPTION:Sunday Worship
LAST-MODIFIED:20260424T082532
LOCATION:
SUMMARY:Sunday Worship
URL;VALUE=URI:https://ponazarene.com/events/sunday-worship/2026-08-30
END:VEVENT
END:VCALENDAR
