BEGIN:VCALENDAR
VERSION:2.0
PRODID:icalendar-ruby
CALSCALE:GREGORIAN
METHOD:PUBLISH
BEGIN:VEVENT
DTSTAMP:20260422T101444Z
UID:5-656792@ponazarene.com
DTSTART:20260802T170000Z
DTEND:20260802T180000Z
CLASS:PUBLIC
CREATED:20260421T182422
DESCRIPTION:Sunday Worship
LAST-MODIFIED:20260421T182422
LOCATION:
SUMMARY:Sunday Worship
URL;VALUE=URI:https://ponazarene.com/events/sunday-worship/2026-08-02
END:VEVENT
END:VCALENDAR
